BEGIN:VCALENDAR
VERSION:2.0
PRODID:-//ChamberMaster//Event Calendar 2.0//EN
METHOD:PUBLISH
X-PUBLISHED-TTL:P3D
REFRESH-INTERVAL:P3D
CALSCALE:GREGORIAN
BEGIN:VEVENT
DTSTART;VALUE=DATE:20210508
DTEND;VALUE=DATE:20210510
TRANSP:TRANSPARENT
X-MICROSOFT-CDO-ALLDAYEVENT:TRUE
SUMMARY:Mayfest - Walkway over the Hudson
DESCRIPTION:Greetings\,\n\nWe will be a vendor at the Mayfest Walkway over the Hudson on May 8-9. We will have free activities and prizes for children and adults! Stop by and say hello! Come find us by the bridge entrance. Hope to see you all there.
X-ALT-DESC;FMTTYPE=text/html:Greetings\,<br />\nWe will be a vendor at the Mayfest Walkway over the Hudson on May 8-9. We will have free activities and prizes for children and adults! Stop by and say hello! Come find us by the bridge entrance. Hope to see you all there.
LOCATION:
UID:e.2770.10485063
SEQUENCE:3
DTSTAMP:20260421T112100Z
URL:https://business.dcrcoc.org/events/details/mayfest-walkway-over-the-hudson-10485063
END:VEVENT

END:VCALENDAR
