BEGIN:VCALENDAR
VERSION:2.0
PRODID:-//ChamberMaster//Event Calendar 2.0//EN
METHOD:PUBLISH
X-PUBLISHED-TTL:P3D
REFRESH-INTERVAL:P3D
CALSCALE:GREGORIAN
BEGIN:VEVENT
DTSTART:20171130T150000Z
DTEND:20171201T000000Z
X-MICROSOFT-CDO-ALLDAYEVENT:FALSE
SUMMARY:Meet New Beginnings New Esthetician\, Melissa!
DESCRIPTION:Melissa is a graduate of the Hudson Valley School of Advanced Aesthetics.  "Being an esthetician makes perfect sense for me\; it merges my fascination for artistry and creativity with my passion for skin care and beauty."\n \n\n\n	Help us welcome premier skin care specialist Melissa\n	Learn about the amazing services she performs\n	Take advantage of special event pricing\n	Enter to win FREE esthetician services\n	Enter to win FREE CoolSculpt treatment?\n\n\nSchedule a facial with Melissa Before December 31\, 2017 and enjoy 20% off the facial\n \n\n\n	Facials\n	Peels\n	Eyelash Extensions\n	Waxing\n	Tinting\n	Much more!
X-ALT-DESC;FMTTYPE=text/html:<p style="text-align:center">Melissa is a graduate of the Hudson Valley School of Advanced Aesthetics.&nbsp\; &ldquo\;Being an esthetician makes perfect sense for me\; it merges my fascination for artistry and creativity with my passion for skin care and beauty.&rdquo\;</p>\n&nbsp\;\n\n<ul>\n	<li>Help us welcome premier skin care specialist Melissa</li>\n	<li>Learn about the amazing services she performs</li>\n	<li>Take advantage of special event pricing</li>\n	<li>Enter to win <span style="color:rgb(204\, 0\, 255)">FREE</span> esthetician services</li>\n	<li>Enter to win <span style="color:rgb(204\, 0\, 255)">FREE</span> CoolSculpt treatment?</li>\n</ul>\n\n<p style="text-align:center">Schedule a facial with Melissa Before December 31\, 2017 and enjoy 20% off the facial</p>\n&nbsp\;\n\n<ul>\n	<li><span style="color:rgb(0\, 112\, 192)\; font-family:calibri\,sans-serif\; font-size:14pt">Facials</span></li>\n	<li><span style="color:rgb(68\, 114\, 196)\; font-family:calibri\,sans-serif\; font-size:14pt">Peels</span></li>\n	<li><span style="color:rgb(0\, 112\, 192)\; font-family:calibri\,sans-serif\; font-size:14pt">Eyelash Extensions</span></li>\n	<li><span style="color:rgb(0\, 112\, 192)\; font-family:calibri\,sans-serif\; font-size:14pt">Waxing</span></li>\n	<li><span style="color:rgb(0\, 112\, 192)\; font-family:calibri\,sans-serif\; font-size:14pt">Tinting</span></li>\n	<li><span style="color:rgb(0\, 112\, 192)\; font-family:calibri\,sans-serif\; font-size:14pt">Much more!</span></li>\n</ul>\n<br />\n&nbsp\;
LOCATION:New Beginnings Plastic & Reconstructive Surgery 4 Liberty Street\, Third Floor Poughkeepsie\, NY 12601
UID:e.2770.10476555
SEQUENCE:3
DTSTAMP:20260426T020626Z
URL:https://business.dcrcoc.org/events/details/meet-new-beginnings-new-esthetician-melissa-10476555
END:VEVENT

END:VCALENDAR
