BEGIN:VCALENDAR
VERSION:2.0
PRODID:-//ChamberMaster//Event Calendar 2.0//EN
METHOD:PUBLISH
X-PUBLISHED-TTL:P3D
REFRESH-INTERVAL:P3D
CALSCALE:GREGORIAN
BEGIN:VEVENT
DTSTART:20180516T213000Z
DTEND:20180516T223000Z
X-MICROSOFT-CDO-ALLDAYEVENT:FALSE
SUMMARY:Melanoma Prevention and New Therapies
DESCRIPTION:Join Dr. Michael J. Maresca of Hudson Valley Cancer Center to learn how to prevent skin cancer and all about the latest therapies available. Refreshments will be served. RSVP to 845-686-9133
X-ALT-DESC;FMTTYPE=text/html:Join Dr. Michael J. Maresca of Hudson Valley Cancer Center to learn how to prevent skin cancer and all about the latest therapies available. Refreshments will be served. RSVP to 845-686-9133
LOCATION:Hudson Valley Cancer Center 159 Barnegat Road 2nd Floor Conference Room
UID:e.2770.10477756
SEQUENCE:3
DTSTAMP:20260425T195226Z
URL:https://business.dcrcoc.org/events/details/melanoma-prevention-and-new-therapies-10477756
END:VEVENT

END:VCALENDAR
