BEGIN:VCALENDAR
VERSION:2.0
PRODID:-//ChamberMaster//Event Calendar 2.0//EN
METHOD:PUBLISH
X-PUBLISHED-TTL:P3D
REFRESH-INTERVAL:P3D
CALSCALE:GREGORIAN
BEGIN:VEVENT
DTSTART:20180528T150000Z
DTEND:20180528T153000Z
X-MICROSOFT-CDO-ALLDAYEVENT:FALSE
SUMMARY:Memorial Day Program
DESCRIPTION:On Monday\, May 28th at 11am the Fishkill Rural Cemetery will be hosting a Memorial Day program at the Fishkill Rural Cemetery DuBois Chapel. This year's speaker will be Bill Jeffway\, President of the Dutchess County Historical Society. His theme will be "2018   The Year of the Veteran". Light refreshments will be served. This event will be held rain or shine!
X-ALT-DESC;FMTTYPE=text/html:On Monday\, May 28th at 11am the Fishkill Rural Cemetery will be hosting a Memorial Day program at the Fishkill Rural Cemetery DuBois Chapel. This year&rsquo\;s speaker will be Bill Jeffway\, President of the Dutchess County Historical Society. His theme will be &ldquo\;2018 &ndash\; The Year of the Veteran&rdquo\;. Light refreshments will be served. This event will be held rain or shine!
LOCATION:Fishkill Rural Cemetery - DuBois Chapel
UID:e.2770.10477787
SEQUENCE:3
DTSTAMP:20260425T181611Z
URL:https://business.dcrcoc.org/events/details/memorial-day-program-10477787
END:VEVENT

END:VCALENDAR
