BEGIN:VCALENDAR
VERSION:2.0
PRODID:-//ChamberMaster//Event Calendar 2.0//EN
METHOD:PUBLISH
X-PUBLISHED-TTL:P3D
REFRESH-INTERVAL:P3D
CALSCALE:GREGORIAN
BEGIN:VEVENT
DTSTART:20171002T130000Z
DTEND:20171130T220000Z
X-MICROSOFT-CDO-ALLDAYEVENT:FALSE
SUMMARY:MENTAL HEALTH AMERICA OF DUTCHESS COUNTY'S WREATH SALE
DESCRIPTION:Sale of fresh 18" balsam wreaths ~ includes a bag of accessories ~ red bow\, pine cones\, holly berries\, and wire Delivery for business orders of 12 or more Please place order by November 17th Pick up November 30th from 12 noon -5:00 p.m.
X-ALT-DESC;FMTTYPE=text/html:Sale of fresh 18&quot\; balsam wreaths ~ includes a bag of accessories ~ red bow\, pine cones\, holly berries\, and wire Delivery for business orders of 12 or more Please place order by November 17th Pick up November 30th from 12 noon -5:00 p.m.
LOCATION:Mental Health America of Dutchess County 253 Mansion Street\, Poughkeepsie NY Ramp in back parking lot
UID:e.2770.10476344
SEQUENCE:3
DTSTAMP:20260426T020939Z
URL:https://business.dcrcoc.org/events/details/mental-health-america-of-dutchess-county-s-wreath-sale-10476344
END:VEVENT

END:VCALENDAR
