BEGIN:VCALENDAR
VERSION:2.0
PRODID:-//ChamberMaster//Event Calendar 2.0//EN
METHOD:PUBLISH
X-PUBLISHED-TTL:P3D
REFRESH-INTERVAL:P3D
CALSCALE:GREGORIAN
BEGIN:VEVENT
DTSTART:20180213T140000Z
DTEND:20180425T210000Z
X-MICROSOFT-CDO-ALLDAYEVENT:FALSE
SUMMARY:MHADC Anemone Sale - Administrative Professionals' Week
DESCRIPTION:Order unique Anemone flowers for pick up during Administrative Professionals' Week ~ deadline to order ~ 4/13 ~ delivery can be provided for businesses ordering 12 or more bouquets
X-ALT-DESC;FMTTYPE=text/html:Order unique Anemone flowers for pick up during Administrative Professionals&#39\; Week ~ deadline to order ~ 4/13 ~ delivery can be provided for businesses ordering 12 or more bouquets
LOCATION:Pick up is MHADC at 253 Mansion Street
UID:e.2770.10476796
SEQUENCE:3
DTSTAMP:20260425T195100Z
URL:https://business.dcrcoc.org/events/details/mhadc-anemone-sale-administrative-professionals-week-10476796
END:VEVENT

END:VCALENDAR
