BEGIN:VCALENDAR
VERSION:2.0
PRODID:-//ChamberMaster//Event Calendar 2.0//EN
METHOD:PUBLISH
X-PUBLISHED-TTL:P3D
REFRESH-INTERVAL:P3D
CALSCALE:GREGORIAN
BEGIN:VEVENT
DTSTART:20180517T150000Z
DTEND:20180517T180000Z
X-MICROSOFT-CDO-ALLDAYEVENT:FALSE
SUMMARY:MHADC's Annual Meeting
DESCRIPTION:Keynote speaker ~ Ken Nwadike\, Jr. ~ the founder of the Free Hugs Project after the Boston Marathon bombings ~ his presentation ~ "The Power of Positive Human Interaction"
X-ALT-DESC;FMTTYPE=text/html:Keynote speaker ~ Ken Nwadike\, Jr. ~ the founder of the Free Hugs Project after the Boston Marathon bombings ~ his presentation ~ &quot\;The Power of Positive Human Interaction&quot\;
LOCATION:The Poughkeepsie Grand Hotel
UID:e.2770.10477615
SEQUENCE:3
DTSTAMP:20260425T181830Z
URL:https://business.dcrcoc.org/events/details/mhadc-s-annual-meeting-10477615
END:VEVENT

END:VCALENDAR
