BEGIN:VCALENDAR
VERSION:2.0
PRODID:-//ChamberMaster//Event Calendar 2.0//EN
METHOD:PUBLISH
X-PUBLISHED-TTL:P3D
REFRESH-INTERVAL:P3D
CALSCALE:GREGORIAN
BEGIN:VEVENT
DTSTART:20180304T160000Z
DTEND:20180304T220000Z
X-MICROSOFT-CDO-ALLDAYEVENT:FALSE
SUMMARY:Mid Hudson Auto Show
DESCRIPTION:Come see 60 new 2018 cars for free at the Civic Center. Sit in the new cars\, talk with the car dealers and compare compare compare with no pressure to buy Should you decide to buy with 30 days of the show you can get an additional discount.
X-ALT-DESC;FMTTYPE=text/html:Come see 60 new 2018 cars for free at the Civic Center. Sit in the new cars\, talk with the car dealers and compare compare compare with no pressure to buy Should you decide to buy with 30 days of the show you can get an additional discount.
LOCATION:Mid Hudson Civic Center\, 14 Civic Center Plz\, Poughkeepsie\, NY 12601
UID:e.2770.10476823
SEQUENCE:3
DTSTAMP:20260425T210254Z
URL:https://business.dcrcoc.org/events/details/mid-hudson-auto-show-10476823
END:VEVENT

END:VCALENDAR
