BEGIN:VCALENDAR
VERSION:2.0
PRODID:-//ChamberMaster//Event Calendar 2.0//EN
METHOD:PUBLISH
X-PUBLISHED-TTL:P3D
REFRESH-INTERVAL:P3D
CALSCALE:GREGORIAN
BEGIN:VEVENT
DTSTART:20180927T220000Z
DTEND:20180928T010000Z
X-MICROSOFT-CDO-ALLDAYEVENT:FALSE
SUMMARY:Mid-Hudson Civic Center - Disney Junior Dance Party on Tour!
DESCRIPTION:Are you ready to DANCE?!? Disney Junior Dance Party On Tour Presented by Pull-Ups  Training Pants! is an ALL NEW interactive live concert experience. Sing along to Disney Junior's greatest hits with your favorite characters: Mickey and the Roadster Racers\, Sofia The First\, Puppy Dog Pals\, Elena of Avalor\, Doc McStuffins\, Vampirina\, The Lion Guard\, Muppet Babies and more! Kids of all ages and their families are invited to get up and dance\, play games and join the biggest dance party around! Get tix to this exciting live concert experience here: DisneyJuniorTour.com Tickets: VIP: $164.50 and up\; General Admission: $37.50\, 47.50 & 62.50
X-ALT-DESC;FMTTYPE=text/html:Are you ready to DANCE?!? Disney Junior Dance Party On Tour Presented by Pull-Ups&reg\; Training Pants! is an ALL NEW interactive live concert experience. Sing along to Disney Junior&rsquo\;s greatest hits with your favorite characters: Mickey and the Roadster Racers\, Sofia The First\, Puppy Dog Pals\, Elena of Avalor\, Doc McStuffins\, Vampirina\, The Lion Guard\, Muppet Babies and more! Kids of all ages and their families are invited to get up and dance\, play games and join the biggest dance party around! Get tix to this exciting live concert experience here: DisneyJuniorTour.com Tickets: VIP: $164.50 and up\; General Admission: $37.50\, 47.50 &amp\; 62.50
LOCATION:Mid-Hudson Civic Center 14 Civic Center Plaza Poughkeepsie\, NY 12601
UID:e.2770.10477828
SEQUENCE:3
DTSTAMP:20260425T131740Z
URL:https://business.dcrcoc.org/events/details/mid-hudson-civic-center-disney-junior-dance-party-on-tour-10477828
END:VEVENT

END:VCALENDAR
