BEGIN:VCALENDAR
VERSION:2.0
PRODID:-//ChamberMaster//Event Calendar 2.0//EN
METHOD:PUBLISH
X-PUBLISHED-TTL:P3D
REFRESH-INTERVAL:P3D
CALSCALE:GREGORIAN
BEGIN:VEVENT
DTSTART:20180915T223000Z
DTEND:20180916T020000Z
X-MICROSOFT-CDO-ALLDAYEVENT:FALSE
SUMMARY:Mid-Hudson Civic Center: Floyd Patterson Boxing Club Presents 1st Annual DC10-13 Boxing Tournament
DESCRIPTION:Floyd Patterson Boxing Club Presents 1st Annual DC10-13 Boxing Tournament Saturday\, September 15\, 2018 Doors Open 6:30pm 1st inaugural amateur boxing championships sanctioned by USA Boxing Metro. Tickets: $20 All Seats. $10\; Kids 12 & Under. Free\; Kids 5 and under. **Please purchase tickets at the Mid-Hudson Civic Center Box Office (845) 454-5800 x1201 during business hours\, Monday Friday\, 10:00am 5:30pm.
X-ALT-DESC;FMTTYPE=text/html:Floyd Patterson Boxing Club Presents 1st Annual DC10-13 Boxing Tournament Saturday\, September 15\, 2018 Doors Open 6:30pm 1st inaugural amateur boxing championships sanctioned by USA Boxing Metro. Tickets: $20 All Seats. $10\; Kids 12 &amp\; Under. Free\; Kids 5 and under. **Please purchase tickets at the Mid-Hudson Civic Center Box Office (845) 454-5800 x1201 during business hours\, Monday&ndash\;Friday\, 10:00am&ndash\;5:30pm.
LOCATION:
UID:e.2770.10479684
SEQUENCE:3
DTSTAMP:20260425T131832Z
URL:https://business.dcrcoc.org/events/details/mid-hudson-civic-center-floyd-patterson-boxing-club-presents-1st-annual-dc10-13-boxing-tournament-10479684
END:VEVENT

END:VCALENDAR
