BEGIN:VCALENDAR
VERSION:2.0
PRODID:-//ChamberMaster//Event Calendar 2.0//EN
METHOD:PUBLISH
X-PUBLISHED-TTL:P3D
REFRESH-INTERVAL:P3D
CALSCALE:GREGORIAN
BEGIN:VEVENT
DTSTART;VALUE=DATE:20181027
DTEND;VALUE=DATE:20181028
TRANSP:TRANSPARENT
X-MICROSOFT-CDO-ALLDAYEVENT:TRUE
SUMMARY:Mid-Hudson Civic Center - Junior Rangers Rookie Series - Try Hockey for Free!
DESCRIPTION:Junior Rangers Rookie Series! Try Hockey for Free! October 27\, 2018 Take the Ice! Watch your child take their next "first steps" as they hit the ice for the first time in a fun\, introductory lesson designed for kids with little or no prior skating experience. Rangers Alumni and our experienced staff of instructors lead a series of 1-day sessions at IceTime Sports Complex and McCann Ice Arena. Each sessions includes: Free rental skates and loaner equipment Professional instruction alongside Rangers Alumni Convenient time Free Rangers hockey stick for your child to take home Post-skate meet & greet with NYR Alumni
X-ALT-DESC;FMTTYPE=text/html:Junior Rangers Rookie Series! Try Hockey for Free! October 27\, 2018 Take the Ice! Watch your child take their next &quot\;first steps&quot\; as they hit the ice for the first time in a fun\, introductory lesson designed for kids with little or no prior skating experience. Rangers Alumni and our experienced staff of instructors lead a series of 1-day sessions at IceTime Sports Complex and McCann Ice Arena. Each sessions includes: Free rental skates and loaner equipment Professional instruction alongside Rangers Alumni Convenient time Free Rangers hockey stick for your child to take home Post-skate meet &amp\; greet with NYR Alumni
LOCATION:
UID:e.2770.10479682
SEQUENCE:3
DTSTAMP:20260425T115434Z
URL:https://business.dcrcoc.org/events/details/mid-hudson-civic-center-junior-rangers-rookie-series-try-hockey-for-free-10479682
END:VEVENT

END:VCALENDAR
