BEGIN:VCALENDAR
VERSION:2.0
PRODID:-//ChamberMaster//Event Calendar 2.0//EN
METHOD:PUBLISH
X-PUBLISHED-TTL:P3D
REFRESH-INTERVAL:P3D
CALSCALE:GREGORIAN
BEGIN:VEVENT
DTSTART:20180916T230000Z
DTEND:20180917T030000Z
X-MICROSOFT-CDO-ALLDAYEVENT:FALSE
SUMMARY:Mid-Hudson Civic Center - Kevin Hart: Irresponsible Tour
DESCRIPTION:Kevin Hart: Irresponsible Tour Sunday\, September 16\, 2018 This is a strict NO CELL PHONES ALLOWED show. Please leave your phones in your cars or at home. Anyone who brings a cell phone will be required to place it in a locked pouch. Everyone is subject to a pat down and wanding. Anyone caught with a cell phone inside the venue will be immediately ejected." Tickets: On Sale Now! Mid-Hudson Civic Center Box Office and ticketmaster.com.
X-ALT-DESC;FMTTYPE=text/html:Kevin Hart: Irresponsible Tour Sunday\, September 16\, 2018 This is a strict NO CELL PHONES ALLOWED show. Please leave your phones in your cars or at home. Anyone who brings a cell phone will be required to place it in a locked pouch. Everyone is subject to a pat down and wanding. Anyone caught with a cell phone inside the venue will be immediately ejected.&quot\; Tickets: On Sale Now! Mid-Hudson Civic Center Box Office and ticketmaster.com.
LOCATION:
UID:e.2770.10479686
SEQUENCE:3
DTSTAMP:20260425T131638Z
URL:https://business.dcrcoc.org/events/details/mid-hudson-civic-center-kevin-hart-irresponsible-tour-10479686
END:VEVENT

END:VCALENDAR
