BEGIN:VCALENDAR
VERSION:2.0
PRODID:-//ChamberMaster//Event Calendar 2.0//EN
METHOD:PUBLISH
X-PUBLISHED-TTL:P3D
REFRESH-INTERVAL:P3D
CALSCALE:GREGORIAN
BEGIN:VEVENT
DTSTART:20181127T230000Z
DTEND:20181128T040000Z
X-MICROSOFT-CDO-ALLDAYEVENT:FALSE
SUMMARY:Mid-Hudson Civic Center Presents A Charlie Brown Christmas Live On Stage
DESCRIPTION:Everyone's favorite holiday classic comes to life in the all-new touring production A CHARLIE BROWN CHRISTMAS LIVE ON STAGE! Join Charlie Brown\, Snoopy\, Lucy\, Linus\, and the whole Peanuts gang as they produce their own Christmas play and ultimately learn the true meaning of the season. A CHARLIE BROWN CHRISTMAS LIVE ON STAGE is a present the whole family can enjoy!
X-ALT-DESC;FMTTYPE=text/html:Everyone&rsquo\;s favorite holiday classic comes to life in the all-new touring production A CHARLIE BROWN CHRISTMAS LIVE ON STAGE! Join Charlie Brown\, Snoopy\, Lucy\, Linus\, and the whole Peanuts gang as they produce their own Christmas play and ultimately learn the true meaning of the season. A CHARLIE BROWN CHRISTMAS LIVE ON STAGE is a present the whole family can enjoy!
LOCATION:Mid Hudson Civic Center 14 Civic Center Plaza Poughkeepsie\, NY 12531
UID:e.2770.10479742
SEQUENCE:3
DTSTAMP:20260425T102209Z
URL:https://business.dcrcoc.org/events/details/mid-hudson-civic-center-presents-a-charlie-brown-christmas-live-on-stage-10479742
END:VEVENT

END:VCALENDAR
