BEGIN:VCALENDAR
VERSION:2.0
PRODID:-//ChamberMaster//Event Calendar 2.0//EN
METHOD:PUBLISH
X-PUBLISHED-TTL:P3D
REFRESH-INTERVAL:P3D
CALSCALE:GREGORIAN
BEGIN:VEVENT
DTSTART:20181014T000000Z
DTEND:20181014T030000Z
X-MICROSOFT-CDO-ALLDAYEVENT:FALSE
SUMMARY:Mid-Hudson Civic Center - The Machine Performs Pink Floyd: 30th Anniversary Show with Interstellar Lights and Lasers
DESCRIPTION:Accompanied by the psychedelic Interstellar Lights and Lasers\, The Machine performs Pink Floyd in a special 30th Anniversary show. The band will perform the three pivotal Pink Floyd albums\, "Dark Side of the Moon\," Wish You Were Here" and "Animals\," all in their entirety\, plus a special encore. This extra-long show will feature the Machine's touring light show plus laser effects in part created for Roger Waters and David Gilmour tours by Lightwave International. Tickets: Public on-sale Friday\, June 15\, 10am! General Admission: $49.50\, 39.50 & 29.50 plus fees.
X-ALT-DESC;FMTTYPE=text/html:Accompanied by the psychedelic Interstellar Lights and Lasers\, The Machine performs Pink Floyd in a special 30th Anniversary show. The band will perform the three pivotal Pink Floyd albums\, &quot\;Dark Side of the Moon\,&quot\; Wish You Were Here&quot\; and &quot\;Animals\,&quot\; all in their entirety\, plus a special encore. This extra-long show will feature the Machine&#39\;s touring light show plus laser effects in part created for Roger Waters and David Gilmour tours by Lightwave International. Tickets: Public on-sale Friday\, June 15\, 10am! General Admission: $49.50\, 39.50 &amp\; 29.50 plus fees.
LOCATION:Mid-Hudson Civic Center 14 Civic Center Plaza Poughkeepsie\, NY 12601
UID:e.2770.10479259
SEQUENCE:3
DTSTAMP:20260425T115250Z
URL:https://business.dcrcoc.org/events/details/mid-hudson-civic-center-the-machine-performs-pink-floyd-30th-anniversary-show-with-interstellar-lights-and-lasers-10479259
END:VEVENT

END:VCALENDAR
