BEGIN:VCALENDAR
VERSION:2.0
PRODID:-//ChamberMaster//Event Calendar 2.0//EN
METHOD:PUBLISH
X-PUBLISHED-TTL:P3D
REFRESH-INTERVAL:P3D
CALSCALE:GREGORIAN
BEGIN:VEVENT
DTSTART:20181007T144500Z
DTEND:20181007T164500Z
X-MICROSOFT-CDO-ALLDAYEVENT:FALSE
SUMMARY:Mid-Hudson Civic Center - Try Hockey for Free (Ages 5-9)
DESCRIPTION:Take the Ice! Watch your child take their next "first steps" as they hit the ice for the first time in a fun\, introductory lesson designed for kids with little or no prior skating experience. Rangers Alumni and our experienced staff of instructors lead a series of 1-day sessions at IceTime Sports Complex and McCann Ice Arena. Each sessions includes: Free rental skates and loaner equipment Professional instruction alongside Rangers Alumni Convenient time Free Rangers hockey stick for your child to take home Post-skate meet & greet with NYR Alumni
X-ALT-DESC;FMTTYPE=text/html:Take the Ice! Watch your child take their next &quot\;first steps&quot\; as they hit the ice for the first time in a fun\, introductory lesson designed for kids with little or no prior skating experience. Rangers Alumni and our experienced staff of instructors lead a series of 1-day sessions at IceTime Sports Complex and McCann Ice Arena. Each sessions includes: Free rental skates and loaner equipment Professional instruction alongside Rangers Alumni Convenient time Free Rangers hockey stick for your child to take home Post-skate meet &amp\; greet with NYR Alumni
LOCATION:McCann Ice Arena Mid Hudson Civic Center 14 Civic Center Plaza Poughkeepsie\, NY 12601
UID:e.2770.10479334
SEQUENCE:3
DTSTAMP:20260425T115244Z
URL:https://business.dcrcoc.org/events/details/mid-hudson-civic-center-try-hockey-for-free-ages-5-9-10479334
END:VEVENT

END:VCALENDAR
