BEGIN:VCALENDAR
VERSION:2.0
PRODID:-//ChamberMaster//Event Calendar 2.0//EN
METHOD:PUBLISH
X-PUBLISHED-TTL:P3D
REFRESH-INTERVAL:P3D
CALSCALE:GREGORIAN
BEGIN:VEVENT
DTSTART:20171114T170000Z
DTEND:20171114T190000Z
X-MICROSOFT-CDO-ALLDAYEVENT:FALSE
SUMMARY:Mid Hudson NAPW: How You Manage Hurdles Makes a Difference!
DESCRIPTION:12:00-12:30 pm - Networking\, Professional Shares\, NAPW Announcements\n\n12:30-1:30pm - Interactive Discussion & Lunch\n\n1:30-2:00 pm - More Networking\, Personal Shares\, Future Discussions & Meetings
X-ALT-DESC;FMTTYPE=text/html:<p>12:00-12:30 pm - Networking\, Professional Shares\, NAPW Announcements</p>\n\n<p>12:30-1:30pm - Interactive Discussion &amp\; Lunch</p>\n\n<p>1:30-2:00 pm - More Networking\, Personal Shares\, Future Discussions &amp\; Meetings</p>\n
LOCATION:Cosimo's Brick Oven Poughkeepsie | 120 Delafield Street | Poughkeepsie\, NY 12601
UID:e.2770.10476462
SEQUENCE:3
DTSTAMP:20260426T033351Z
URL:https://business.dcrcoc.org/events/details/mid-hudson-napw-how-you-manage-hurdles-makes-a-difference-10476462
END:VEVENT

END:VCALENDAR
