BEGIN:VCALENDAR
VERSION:2.0
PRODID:-//ChamberMaster//Event Calendar 2.0//EN
METHOD:PUBLISH
X-PUBLISHED-TTL:P3D
REFRESH-INTERVAL:P3D
CALSCALE:GREGORIAN
BEGIN:VEVENT
DTSTART:20180320T160000Z
DTEND:20180320T180000Z
X-MICROSOFT-CDO-ALLDAYEVENT:FALSE
SUMMARY:Mid Hudson NAPW/IAW National Women's History Month Celebration
DESCRIPTION:A celebration of National Women's History Month! The event will feature a guest speaker and include networking\, food\, interactive discussion\, and updates on NAPW/IAW.
X-ALT-DESC;FMTTYPE=text/html:A celebration of National Women&#39\;s History Month! The event will feature a guest speaker and include networking\, food\, interactive discussion\, and updates on NAPW/IAW.
LOCATION:Cosimo's 1217 Route 300 Newburgh\, New York 12550
UID:e.2770.10476707
SEQUENCE:3
DTSTAMP:20260425T210655Z
URL:https://business.dcrcoc.org/events/details/mid-hudson-napw-iaw-national-women-s-history-month-celebration-10476707
END:VEVENT

END:VCALENDAR
