BEGIN:VCALENDAR
VERSION:2.0
PRODID:-//ChamberMaster//Event Calendar 2.0//EN
METHOD:PUBLISH
X-PUBLISHED-TTL:P3D
REFRESH-INTERVAL:P3D
CALSCALE:GREGORIAN
BEGIN:VEVENT
DTSTART:20180220T230000Z
DTEND:20180221T010000Z
X-MICROSOFT-CDO-ALLDAYEVENT:FALSE
SUMMARY:Mid-Hudson Valley NAPW/IAW Celebration of American Heart Month
DESCRIPTION:In recognition of American Heart Month\, the event will feature a guest speaker to increase awareness and share ways work-life balance can help lower stress. The event will include networking\, food\, interactive discussion\, and updates on NAPW/IAW.
X-ALT-DESC;FMTTYPE=text/html:In recognition of American Heart Month\, the event will feature a guest speaker to increase awareness and share ways work-life balance can help lower stress. The event will include networking\, food\, interactive discussion\, and updates on NAPW/IAW.
LOCATION:Piano Piano Wine Bar 1064 Main Street Fishkill\, New York 12524
UID:e.2770.10476708
SEQUENCE:3
DTSTAMP:20260425T222716Z
URL:https://business.dcrcoc.org/events/details/mid-hudson-valley-napw-iaw-celebration-of-american-heart-month-10476708
END:VEVENT

END:VCALENDAR
