BEGIN:VCALENDAR
VERSION:2.0
PRODID:-//ChamberMaster//Event Calendar 2.0//EN
METHOD:PUBLISH
X-PUBLISHED-TTL:P3D
REFRESH-INTERVAL:P3D
CALSCALE:GREGORIAN
BEGIN:VEVENT
DTSTART:20180520T150000Z
DTEND:20180520T180000Z
X-MICROSOFT-CDO-ALLDAYEVENT:FALSE
SUMMARY:Mid-Hudson Walk for Celiac Disease
DESCRIPTION:Help Raise awareness and funds for Celiac Disease by joining us for a walk\, followed by a gluten-free fair. $20 to pre-register\, $25 the day of the event. This includes a goody bag\, water bottle and t-shirt while supplies last! Children 5 and younger are free. Dogs welcome! Rain or shine!
X-ALT-DESC;FMTTYPE=text/html:Help Raise awareness and funds for Celiac Disease by joining us for a walk\, followed by a gluten-free fair. $20 to pre-register\, $25 the day of the event. This includes a goody bag\, water bottle and t-shirt while supplies last! Children 5 and younger are free. Dogs welcome! Rain or shine!
LOCATION:Walkway Over the Hudson\, Poughkeepsie side
UID:e.2770.10477755
SEQUENCE:3
DTSTAMP:20260425T181849Z
URL:https://business.dcrcoc.org/events/details/mid-hudson-walk-for-celiac-disease-10477755
END:VEVENT

END:VCALENDAR
