BEGIN:VCALENDAR
VERSION:2.0
PRODID:-//ChamberMaster//Event Calendar 2.0//EN
METHOD:PUBLISH
X-PUBLISHED-TTL:P3D
REFRESH-INTERVAL:P3D
CALSCALE:GREGORIAN
BEGIN:VEVENT
DTSTART:20180110T220000Z
DTEND:20180111T000000Z
X-MICROSOFT-CDO-ALLDAYEVENT:FALSE
SUMMARY:Middle Main Happy Hour
DESCRIPTION:Please join us January 10th at 5 pm for our Annual Middle Main Happy Hour! We are looking forward to connecting and networking with our neighbors in the Middle Main neighborhood\, and having some good conversation about how we can better support one another on Main Street. The first drink is on us... Hope to see you there!
X-ALT-DESC;FMTTYPE=text/html:Please join us January 10th at 5 pm for our Annual Middle Main Happy Hour! We are looking forward to connecting and networking with our neighbors in the Middle Main neighborhood\, and having some good conversation about how we can better support one another on Main Street. The first drink is on us... Hope to see you there!
LOCATION:The Chance Theater 6 Crannell St Poughkeepsie\, NY 12601
UID:e.2770.10476691
SEQUENCE:3
DTSTAMP:20260425T232147Z
URL:https://business.dcrcoc.org/events/details/middle-main-happy-hour-10476691
END:VEVENT

END:VCALENDAR
