BEGIN:VCALENDAR
VERSION:2.0
PRODID:-//ChamberMaster//Event Calendar 2.0//EN
METHOD:PUBLISH
X-PUBLISHED-TTL:P3D
REFRESH-INTERVAL:P3D
CALSCALE:GREGORIAN
BEGIN:VEVENT
DTSTART:20171019T140000Z
DTEND:20171019T190000Z
X-MICROSOFT-CDO-ALLDAYEVENT:FALSE
SUMMARY:MidHudson Regional Hospital Trauma Services Presents: Fall Prevention In Older Adults
DESCRIPTION:MidHudson Regional Hospital Trauma Services Presents: Fall Prevention In Older Adults \n\n\n\nPersonalized fall risk profile to include:\n\n	BALANCE AND MOBILITY\n	EXERCISE\n	HOME SAFETY\n	ASSISTIVE DEVICES\n	NUTRITION\n	MEDICAL SCREENING\n	MEDICATION REVIEW\n	VISION AND HEARING\n	FOOT HEALTH\n\n\n\nAn older adult falls every second of every day. Don't be a victim! Join the experts. Schedule a free\, personalized fall-risk profile\n\n\n	FREE Fall Prevention Screenings\n	Valet parking will be available   Please inquire at The Atrium entrance.
X-ALT-DESC;FMTTYPE=text/html:MidHudson Regional Hospital Trauma Services Presents: <em>Fall Prevention In Older Adults </em><br />\n<br />\nPersonalized fall risk profile to include:\n<ul>\n	<li>BALANCE AND MOBILITY</li>\n	<li>EXERCISE</li>\n	<li>HOME SAFETY</li>\n	<li>ASSISTIVE DEVICES</li>\n	<li>NUTRITION</li>\n	<li>MEDICAL SCREENING</li>\n	<li>MEDICATION REVIEW</li>\n	<li>VISION AND HEARING</li>\n	<li>FOOT HEALTH</li>\n</ul>\n<br />\n<strong>An older adult falls every second of every day. </strong>Don&rsquo\;t be a victim! Join the experts. Schedule a free\, personalized fall-risk profile\n\n<ul>\n	<li>FREE Fall Prevention Screenings</li>\n	<li>Valet parking will be available &mdash\; Please inquire at The Atrium entrance.</li>\n</ul>\n
LOCATION:MidHudson Regional Hospital Sister Ann Elizabeth Conference Center 241 North Rd\, The Atrium\, First Floor Poughkeepsie\, NY 12601
UID:e.2770.10476347
SEQUENCE:3
DTSTAMP:20260426T033650Z
URL:https://business.dcrcoc.org/events/details/midhudson-regional-hospital-trauma-services-presents-fall-prevention-in-older-adults-10476347
END:VEVENT

END:VCALENDAR
