BEGIN:VCALENDAR
VERSION:2.0
PRODID:-//ChamberMaster//Event Calendar 2.0//EN
METHOD:PUBLISH
X-PUBLISHED-TTL:P3D
REFRESH-INTERVAL:P3D
CALSCALE:GREGORIAN
BEGIN:VEVENT
DTSTART:20180909T210000Z
DTEND:20180910T000000Z
X-MICROSOFT-CDO-ALLDAYEVENT:FALSE
SUMMARY:Mighty Jungle Plays an Acoustic Set at The Alley Kat!
DESCRIPTION:Kick back and enjoy your Sunday with an acoustic set from Mighty Jungle! Order up our award winning wood fired pizza along with one of 14 cold drafts on tap!\n\n\n\n\n\n\nCheck out the event details on our Facebook page:\n\nMighty Jungle Plays an Acoustic Set at The Alley Kat!
X-ALT-DESC;FMTTYPE=text/html:<div>\n<div>\n<div>\n<div><span style="color:rgb(29\, 33\, 41)\; font-family:system-ui\,-apple-system\,blinkmacsystemfont\,.sfnstext-regular\,sans-serif\; font-size:14px">Kick back and enjoy your Sunday with an acoustic set from Mighty Jungle! Order up our award winning wood fired pizza along with one of 14 cold drafts on tap!</span></div>\n</div>\n</div>\n</div>\n\n<p><br />\nCheck out the event details on our Facebook page:<br />\n<a href="https://www.facebook.com/events/266083620896413/">Mighty Jungle Plays an Acoustic Set at The Alley Kat!</a></p>\n
LOCATION:The Alley Kat 1677 US 9 Wappingers Falls\, New York\, NY 12590
UID:e.2770.10479456
SEQUENCE:3
DTSTAMP:20260425T131704Z
URL:https://business.dcrcoc.org/events/details/mighty-jungle-plays-an-acoustic-set-at-the-alley-kat-10479456
END:VEVENT

END:VCALENDAR
