BEGIN:VCALENDAR
VERSION:2.0
PRODID:-//ChamberMaster//Event Calendar 2.0//EN
METHOD:PUBLISH
X-PUBLISHED-TTL:P3D
REFRESH-INTERVAL:P3D
CALSCALE:GREGORIAN
BEGIN:VEVENT
DTSTART:20171025T230000Z
DTEND:20171025T234500Z
X-MICROSOFT-CDO-ALLDAYEVENT:FALSE
SUMMARY:Miles of Hope
DESCRIPTION:Joint us for a "Dance for Hope"group dance class to support "Miles of Hope Breast Cancer Foundation" We"ll be teaching simple steps to the most popular dances. Class is $20 to attend and 50% of the proceeds will be donated to "Miles of Hope" Come and have fun dancing with us for a good cause.
X-ALT-DESC;FMTTYPE=text/html:Joint us for a &quot\;Dance for Hope&quot\;group dance class to support &quot\;Miles of Hope Breast Cancer Foundation&quot\; We&quot\;ll be teaching simple steps to the most popular dances. Class is $20 to attend and 50% of the proceeds will be donated to &quot\;Miles of Hope&quot\; Come and have fun dancing with us for a good cause.
LOCATION:Fred Astaire Dance Studio of Dutchess 1562 Route 9\, Wappingers Falls\, NY
UID:e.2770.10476386
SEQUENCE:3
DTSTAMP:20260426T033322Z
URL:https://business.dcrcoc.org/events/details/miles-of-hope-10476386
END:VEVENT

END:VCALENDAR
