BEGIN:VCALENDAR
VERSION:2.0
PRODID:-//ChamberMaster//Event Calendar 2.0//EN
METHOD:PUBLISH
X-PUBLISHED-TTL:P3D
REFRESH-INTERVAL:P3D
CALSCALE:GREGORIAN
BEGIN:VEVENT
DTSTART:20190504T120000Z
DTEND:20190504T170000Z
X-MICROSOFT-CDO-ALLDAYEVENT:FALSE
SUMMARY:Miles of Hope Breast Cancer Foundation 5K Family Fun Run/Walk and 1-mile Kids Race
DESCRIPTION:Miles of Hope Breast Cancer Foundation 5K Family Fun Run/Walk and 1-mile Kids Race. All proceeds go to the Miles of Hope Breast Cancer Foundation\, a non-profit organization. All funds stay in the Hudson Valley to help people affected by breast cancer. Sponsored by Miles of Hope Breast Cancer Foundation and the Mid-Hudson Road Runners Club (MHRRC).
X-ALT-DESC;FMTTYPE=text/html:Miles of Hope Breast Cancer Foundation 5K Family Fun Run/Walk and 1-mile Kids Race. All proceeds go to the Miles of Hope Breast Cancer Foundation\, a non-profit organization. All funds stay in the Hudson Valley to help people affected by breast cancer. Sponsored by Miles of Hope Breast Cancer Foundation and the Mid-Hudson Road Runners Club (MHRRC).
LOCATION:Tymor Park 249 Duncan Rd. LaGrangeville\, NY 12540 From Taconic Parkway: 3.6 miles on Rt. 55 east\, left on Bruzgul Rd/CR 21 for 17 miles\, right on Duncan Road.
UID:e.2770.10480541
SEQUENCE:3
DTSTAMP:20260423T045820Z
URL:https://business.dcrcoc.org/events/details/miles-of-hope-breast-cancer-foundation-5k-family-fun-run-walk-and-1-mile-kids-race-10480541
END:VEVENT

END:VCALENDAR
