BEGIN:VCALENDAR
VERSION:2.0
PRODID:-//ChamberMaster//Event Calendar 2.0//EN
METHOD:PUBLISH
X-PUBLISHED-TTL:P3D
REFRESH-INTERVAL:P3D
CALSCALE:GREGORIAN
BEGIN:VEVENT
DTSTART:20180428T120000Z
DTEND:20180428T170000Z
X-MICROSOFT-CDO-ALLDAYEVENT:FALSE
SUMMARY:Miles of Hope Breast Cancer Foundation Family Fun Run
DESCRIPTION:Mid-Hudson Road Runners Club (MHRRC) Miles of Hope Breast Cancer Foundation 5K Run/Walk and 1 mile kids run. Saturday\, April 28\, 2018. 10 AM 1 mile run for kids (4-12 years old). 10:30 AM 5K start (all ages). Tymor Park\, 249 Duncan Rd.\, LaGrangeville\, NY 12540 From Taconic Parkway: 3.6 miles on Rt. 55 east\, left on Bruzgul Rd/CR 21 for 17 miles\, right on Duncan Road. Register online by Thursday\, April 26\, go to www.mhrrc.org (click Shopping Cart then Race Registration). Goodies for first 175 pre-registrants. Race day registration begins at 8 AM and CLOSES AT 9:30 AM. Survivors group photo at 9:30 AM. 50/50 raffle\, basket and gift certificate raffles. Fun for the entire family. All proceeds go to the Miles of Hope Breast Cancer Foundation\, and all funds stay in the Hudson Valley to help people affected by breast cancer.
X-ALT-DESC;FMTTYPE=text/html:Mid-Hudson Road Runners Club (MHRRC) Miles of Hope Breast Cancer Foundation 5K Run/Walk and 1 mile kids run. Saturday\, April 28\, 2018. 10 AM 1 mile run for kids (4-12 years old). 10:30 AM 5K start (all ages). Tymor Park\, 249 Duncan Rd.\, LaGrangeville\, NY 12540 From Taconic Parkway: 3.6 miles on Rt. 55 east\, left on Bruzgul Rd/CR 21 for 17 miles\, right on Duncan Road. Register online by Thursday\, April 26\, go to www.mhrrc.org (click Shopping Cart then Race Registration). Goodies for first 175 pre-registrants. Race day registration begins at 8 AM and CLOSES AT 9:30 AM. Survivors group photo at 9:30 AM. 50/50 raffle\, basket and gift certificate raffles. Fun for the entire family. All proceeds go to the Miles of Hope Breast Cancer Foundation\, and all funds stay in the Hudson Valley to help people affected by breast cancer.
LOCATION:Tymor Park\, 249 Duncan Rd.\, LaGrangeville\, NY 12540
UID:e.2770.10476701
SEQUENCE:3
DTSTAMP:20260425T210654Z
URL:https://business.dcrcoc.org/events/details/miles-of-hope-breast-cancer-foundation-family-fun-run-10476701
END:VEVENT

END:VCALENDAR
