BEGIN:VCALENDAR
VERSION:2.0
PRODID:-//ChamberMaster//Event Calendar 2.0//EN
METHOD:PUBLISH
X-PUBLISHED-TTL:P3D
REFRESH-INTERVAL:P3D
CALSCALE:GREGORIAN
BEGIN:VEVENT
DTSTART:20171001T130000Z
DTEND:20171001T160000Z
X-MICROSOFT-CDO-ALLDAYEVENT:FALSE
SUMMARY:Miles of Hope Hudson Valley Community Walk
DESCRIPTION:Come and join us for Miles of Hope's oldest event: 2017 Miles of Hope Hudson Valley Community Walk for Breast Cancer! Our first Walk in 2003 was created to bring awareness to the need for breast cancer support programs in our region. To this day\, Miles of Hope is the only Breast Cancer Foundation where all of the money raised stays in the Hudson Valley. This money directly funds support services and outreach to our families\, friends\, neighbors\, and colleagues whose lives have been affected by breast cancer. The Walk is not only a fundraiser\, but a gathering of survivors\, family members and caregivers. It attracts hundreds of people every fall who walk in honor of\, in memory of and in support of friends and loved ones. Each year we honor an individual who has helped us help those affected by breast cancer.
X-ALT-DESC;FMTTYPE=text/html:Come and join us for Miles of Hope&rsquo\;s oldest event: 2017 Miles of Hope Hudson Valley Community Walk for Breast Cancer! Our first Walk in 2003 was created to bring awareness to the need for breast cancer support programs in our region. To this day\, Miles of Hope is the only Breast Cancer Foundation where all of the money raised stays in the Hudson Valley. This money directly funds support services and outreach to our families\, friends\, neighbors\, and colleagues whose lives have been affected by breast cancer. The Walk is not only a fundraiser\, but a gathering of survivors\, family members and caregivers. It attracts hundreds of people every fall who walk in honor of\, in memory of and in support of friends and loved ones. Each year we honor an individual who has helped us help those affected by breast cancer.
LOCATION:James Baird State Park
UID:e.2770.10476327
SEQUENCE:3
DTSTAMP:20260426T033606Z
URL:https://business.dcrcoc.org/events/details/miles-of-hope-hudson-valley-community-walk-10476327
END:VEVENT

END:VCALENDAR
