BEGIN:VCALENDAR
VERSION:2.0
PRODID:-//ChamberMaster//Event Calendar 2.0//EN
METHOD:PUBLISH
X-PUBLISHED-TTL:P3D
REFRESH-INTERVAL:P3D
CALSCALE:GREGORIAN
BEGIN:VEVENT
DTSTART:20190522T220000Z
DTEND:20190523T010000Z
X-MICROSOFT-CDO-ALLDAYEVENT:FALSE
SUMMARY:Mill Creek Bridal Show
DESCRIPTION:Join Mill Creek on May 22nd from 6-9pm for our spring bridal show. We will have a great selection of vendors to shop from as well as food and beverages to sample. Contact us today if you are a vendor interested in participating or reserve your ticket if you're bride looking to attend.
X-ALT-DESC;FMTTYPE=text/html:Join Mill Creek on May 22nd from 6-9pm for our spring bridal show. We will have a great selection of vendors to shop from as well as food and beverages to sample. Contact us today if you are a vendor interested in participating or reserve your ticket if you&#39\;re bride looking to attend.
LOCATION:Mill Creek Caterers 17 Route 376 Hopewell Jct.\, NY 12533
UID:e.2770.10480652
SEQUENCE:3
DTSTAMP:20260423T045451Z
URL:https://business.dcrcoc.org/events/details/mill-creek-bridal-show-05-22-2019-10480652
END:VEVENT

END:VCALENDAR
