BEGIN:VCALENDAR
VERSION:2.0
PRODID:-//ChamberMaster//Event Calendar 2.0//EN
METHOD:PUBLISH
X-PUBLISHED-TTL:P3D
REFRESH-INTERVAL:P3D
CALSCALE:GREGORIAN
BEGIN:VEVENT
DTSTART:20171203T170000Z
DTEND:20171203T200000Z
X-MICROSOFT-CDO-ALLDAYEVENT:FALSE
SUMMARY:Mill Creek Bridal Show
DESCRIPTION:Mill Creek Caterers Bridal Show is this December 3rd from 12-3. We will have our venue open for tours and to meet with the many vendors that are needed to plan a wedding. There will be a fashion show\, giveaways and of course great food\, drinks and desserts! Register today at www.millcreekcaterers.com
X-ALT-DESC;FMTTYPE=text/html:Mill Creek Caterers Bridal Show is this December 3rd from 12-3. We will have our venue open for tours and to meet with the many vendors that are needed to plan a wedding. There will be a fashion show\, giveaways and of course great food\, drinks and desserts! Register today at www.millcreekcaterers.com
LOCATION:17 Route 376 Hopewell Jct.\,NY 12533
UID:e.2770.10476317
SEQUENCE:3
DTSTAMP:20260426T005110Z
URL:https://business.dcrcoc.org/events/details/mill-creek-bridal-show-12-03-2017-10476317
END:VEVENT

END:VCALENDAR
