BEGIN:VCALENDAR
VERSION:2.0
PRODID:-//ChamberMaster//Event Calendar 2.0//EN
METHOD:PUBLISH
X-PUBLISHED-TTL:P3D
REFRESH-INTERVAL:P3D
CALSCALE:GREGORIAN
BEGIN:VEVENT
DTSTART:20171007T000000Z
DTEND:20171007T023000Z
X-MICROSOFT-CDO-ALLDAYEVENT:FALSE
SUMMARY:Mill Creek Comedy Night with Bob DiBuono and Friends
DESCRIPTION:Come for dinner and a show\, Bob DiBuono recently appeared on ABC' s - The View. Comedy Central's The Nightly Show with Larry Wilmore\, MTV\, E!\, CNN\, and a regular on The Jim Breuer Show on Sirius/XM Satellite Radio. Just finished as the opening act for the 2nd leg of the Kendrick Lamar/YG Sold Out Arena Tour. Come out to see Bob and friends for a great night of laughs. Buy tickets online or at the door.
X-ALT-DESC;FMTTYPE=text/html:Come for dinner and a show\, Bob DiBuono recently appeared on ABC&#39\; s - The View. Comedy Central&#39\;s The Nightly Show with Larry Wilmore\, MTV\, E!\, CNN\, and a regular on The Jim Breuer Show on Sirius/XM Satellite Radio. Just finished as the opening act for the 2nd leg of the Kendrick Lamar/YG Sold Out Arena Tour. Come out to see Bob and friends for a great night of laughs. Buy tickets online or at the door.
LOCATION:17 Route 376 Hopewell Jct.\, NY 12533
UID:e.2770.10476316
SEQUENCE:3
DTSTAMP:20260426T033626Z
URL:https://business.dcrcoc.org/events/details/mill-creek-comedy-night-with-bob-dibuono-and-friends-10476316
END:VEVENT

END:VCALENDAR
