BEGIN:VCALENDAR
VERSION:2.0
PRODID:-//ChamberMaster//Event Calendar 2.0//EN
METHOD:PUBLISH
X-PUBLISHED-TTL:P3D
REFRESH-INTERVAL:P3D
CALSCALE:GREGORIAN
BEGIN:VEVENT
DTSTART:20180519T140000Z
DTEND:20180519T210000Z
X-MICROSOFT-CDO-ALLDAYEVENT:FALSE
SUMMARY:Millbrook Literary Festival
DESCRIPTION:The 10th Annual Millbrook Literary Festival will feature dozens of timely\, thought-provoking\, and thoroughly entertaining authors participating in panel discussions\, readings\, and signings throughout the day. Free event for all ages. For more information\, visit our website at http://www.millbrookliteraryfestival.org. Be sure to check out our social media pages as well: Facebook: https://www.facebook.com/MillbrookLitFest/ Twitter: https://twitter.com/MillbrkLitFest
X-ALT-DESC;FMTTYPE=text/html:The 10th Annual Millbrook Literary Festival will feature dozens of timely\, thought-provoking\, and thoroughly entertaining authors participating in panel discussions\, readings\, and signings throughout the day. Free event for all ages. For more information\, visit our website at http://www.millbrookliteraryfestival.org. Be sure to check out our social media pages as well: Facebook: https://www.facebook.com/MillbrookLitFest/ Twitter: https://twitter.com/MillbrkLitFest
LOCATION:Millbrook Library\, 3 Friendly Lane\, Millbrook\, NY 12545
UID:e.2770.10476396
SEQUENCE:3
DTSTAMP:20260425T182126Z
URL:https://business.dcrcoc.org/events/details/millbrook-literary-festival-10476396
END:VEVENT

END:VCALENDAR
