BEGIN:VCALENDAR
VERSION:2.0
PRODID:-//ChamberMaster//Event Calendar 2.0//EN
METHOD:PUBLISH
X-PUBLISHED-TTL:P3D
REFRESH-INTERVAL:P3D
CALSCALE:GREGORIAN
BEGIN:VEVENT
DTSTART:20190928T180000Z
DTEND:20190928T200000Z
X-MICROSOFT-CDO-ALLDAYEVENT:FALSE
SUMMARY:Mixed Medium Art Workshop
DESCRIPTION:Mixed Medium Art Workshop where you will spend 2 hours creating a beach themed painting. All of the paints and materials will be provided. Great workshop from team building!
X-ALT-DESC;FMTTYPE=text/html:Mixed Medium Art Workshop where you will spend 2 hours creating a beach themed painting. All of the paints and materials will be provided. Great workshop from team building!&nbsp\;
LOCATION:488 Freedom Plains Rd\, Suite 202\, Poughkeepsie\, NY 12603
UID:e.2770.10481176
SEQUENCE:3
DTSTAMP:20260422T215310Z
URL:https://business.dcrcoc.org/events/details/mixed-medium-art-workshop-10481176
END:VEVENT

END:VCALENDAR
