BEGIN:VCALENDAR
VERSION:2.0
PRODID:-//ChamberMaster//Event Calendar 2.0//EN
METHOD:PUBLISH
X-PUBLISHED-TTL:P3D
REFRESH-INTERVAL:P3D
CALSCALE:GREGORIAN
BEGIN:VEVENT
DTSTART:20171117T000000Z
DTEND:20171117T030000Z
X-MICROSOFT-CDO-ALLDAYEVENT:FALSE
SUMMARY:Monte's Six Course Harvest Dinner
DESCRIPTION:Join Chopped Champion and Monte's Chef/Owner Dafna Mizrahi for a mouthwatering Farm to Table dinner. Your six course meal will be designed by Chef Dafna and her extraordinary culinary team and limited to a select clientele.
X-ALT-DESC;FMTTYPE=text/html:Join Chopped Champion and Monte&#39\;s Chef/Owner Dafna Mizrahi for a mouthwatering Farm to Table dinner. Your six course meal will be designed by Chef Dafna and her extraordinary culinary team and limited to a select clientele.
LOCATION:Monte's Local Kitchen & Tap Room 3330 Route 343\, Amenia\, New York 12501
UID:e.2770.10476441
SEQUENCE:3
DTSTAMP:20260426T033303Z
URL:https://business.dcrcoc.org/events/details/monte-s-six-course-harvest-dinner-11-16-2017-10476441
END:VEVENT

END:VCALENDAR
