BEGIN:VCALENDAR
VERSION:2.0
PRODID:-//ChamberMaster//Event Calendar 2.0//EN
METHOD:PUBLISH
X-PUBLISHED-TTL:P3D
REFRESH-INTERVAL:P3D
CALSCALE:GREGORIAN
BEGIN:VEVENT
DTSTART:20190512T150000Z
DTEND:20190512T173000Z
X-MICROSOFT-CDO-ALLDAYEVENT:FALSE
SUMMARY:Mothers Day Brunch
DESCRIPTION:Treat mom to a beautiful brunch buffet with delicious french toast\, a personalized omelet or a perfectly cooked baked salmon and salad. There is much more to choose from so please look through our menu online at our website or through facebook.
X-ALT-DESC;FMTTYPE=text/html:Treat mom to a beautiful brunch buffet with delicious french toast\, a personalized omelet or a perfectly cooked baked salmon and salad. There is much more to choose from so please look through our menu online at our website or through facebook.
LOCATION:Mill Creek Caterers 17 Route 376 Hopewell Jct.\, NY 12533
UID:e.2770.10480650
SEQUENCE:3
DTSTAMP:20260423T044447Z
URL:https://business.dcrcoc.org/events/details/mothers-day-brunch-10480650
END:VEVENT

END:VCALENDAR
