BEGIN:VCALENDAR
VERSION:2.0
PRODID:-//ChamberMaster//Event Calendar 2.0//EN
METHOD:PUBLISH
X-PUBLISHED-TTL:P3D
REFRESH-INTERVAL:P3D
CALSCALE:GREGORIAN
BEGIN:VEVENT
DTSTART:20180513T170000Z
DTEND:20180513T181500Z
X-MICROSOFT-CDO-ALLDAYEVENT:FALSE
SUMMARY:Mount Gulian Celebrates Mother's Day With Free Tours For Moms
DESCRIPTION:Mother's Day will be celebrated at Mount Gulian Historic Site on Sunday\, May 13 with free tours for mothers. Tours of the house\, which overlooks the Hudson River\, as well as the Dutch barn and restored garden\, will be given at 1:00 p.m. and 2:15 p.m. only. Light refreshments for all visitors will be available with our compliments. Make Mother's Day extra special this year with a visit to Mount Gulian. For those who can't attend on May 13\, Mount Gulian will be open for tours through October 28th on Wednesdays through Fridays and Sundays. Sunday Tours are given on the hour from 1 p.m. to 5 p.m.\, with the last tour beginning at 4 p.m. Weekday tours will be given upon arrival from 1 p.m. to 5 p.m. (last tour begins by 4 p.m. Directions may be found at www.mountgulian.org or call 845.831.8172 for more information.
X-ALT-DESC;FMTTYPE=text/html:Mother&rsquo\;s Day will be celebrated at Mount Gulian Historic Site on Sunday\, May 13 with free tours for mothers. Tours of the house\, which overlooks the Hudson River\, as well as the Dutch barn and restored garden\, will be given at 1:00 p.m. and 2:15 p.m. only. Light refreshments for all visitors will be available with our compliments. Make Mother&rsquo\;s Day extra special this year with a visit to Mount Gulian. For those who can&rsquo\;t attend on May 13\, Mount Gulian will be open for tours through October 28th on Wednesdays through Fridays and Sundays. Sunday Tours are given on the hour from 1 p.m. to 5 p.m.\, with the last tour beginning at 4 p.m. Weekday tours will be given upon arrival from 1 p.m. to 5 p.m. (last tour begins by 4 p.m. Directions may be found at www.mountgulian.org or call 845.831.8172 for more information.
LOCATION:145 Sterling Street Beacon\, NY 12508
UID:e.2770.10477694
SEQUENCE:3
DTSTAMP:20260425T182219Z
URL:https://business.dcrcoc.org/events/details/mount-gulian-celebrates-mother-s-day-with-free-tours-for-moms-05-13-2018-10477694
END:VEVENT

END:VCALENDAR
