BEGIN:VCALENDAR
VERSION:2.0
PRODID:-//ChamberMaster//Event Calendar 2.0//EN
METHOD:PUBLISH
X-PUBLISHED-TTL:P3D
REFRESH-INTERVAL:P3D
CALSCALE:GREGORIAN
BEGIN:VEVENT
DTSTART:20171018T210000Z
DTEND:20171018T230000Z
X-MICROSOFT-CDO-ALLDAYEVENT:FALSE
SUMMARY:Mount Saint Mary College - Information Session
DESCRIPTION:Meet with our admissions advisors about completing a bachelor's degree\, master's degree or both. We can help you to apply\, transfer credits\, search for financial aid and schedule classes.
X-ALT-DESC;FMTTYPE=text/html:Meet with our admissions advisors about completing a bachelor&#39\;s degree\, master&#39\;s degree or both. We can help you to apply\, transfer credits\, search for financial aid and schedule classes.
LOCATION:Mount Saint Mary College 330 Powell Avenue\, Newburgh NY 12550 Villa Library
UID:e.2770.10476270
SEQUENCE:3
DTSTAMP:20260426T033436Z
URL:https://business.dcrcoc.org/events/details/mount-saint-mary-college-information-session-10-18-2017-10476270
END:VEVENT

END:VCALENDAR
