BEGIN:VCALENDAR
VERSION:2.0
PRODID:-//ChamberMaster//Event Calendar 2.0//EN
METHOD:PUBLISH
X-PUBLISHED-TTL:P3D
REFRESH-INTERVAL:P3D
CALSCALE:GREGORIAN
BEGIN:VEVENT
DTSTART:20171130T220000Z
DTEND:20171201T000000Z
X-MICROSOFT-CDO-ALLDAYEVENT:FALSE
SUMMARY:Mount Saint Mary College Information Session
DESCRIPTION:Meet with our admissions staff and advisors about completing a bachelor's or master's degree\, or both. We can help you to apply\, transfer credits\, search for financial aid\, and schedule classes.
X-ALT-DESC;FMTTYPE=text/html:Meet with our admissions staff and advisors about completing a bachelor&#39\;s or master&#39\;s degree\, or both. We can help you to apply\, transfer credits\, search for financial aid\, and schedule classes.
LOCATION:Villa Admissions Building Mount Saint Mary College 330 Powell Ave Newburgh\, NY 12550
UID:e.2770.10476454
SEQUENCE:3
DTSTAMP:20260426T020628Z
URL:https://business.dcrcoc.org/events/details/mount-saint-mary-college-information-session-11-30-2017-10476454
END:VEVENT

END:VCALENDAR
