BEGIN:VCALENDAR
VERSION:2.0
PRODID:-//ChamberMaster//Event Calendar 2.0//EN
METHOD:PUBLISH
X-PUBLISHED-TTL:P3D
REFRESH-INTERVAL:P3D
CALSCALE:GREGORIAN
BEGIN:VEVENT
DTSTART:20171007T150000Z
DTEND:20171007T180000Z
X-MICROSOFT-CDO-ALLDAYEVENT:FALSE
SUMMARY:Mount Saint Mary College - Open House
DESCRIPTION:Meet with our admissions advisors about completing a bachelor's degree\, master's degree or both. We can help you to apply\, transfer credits\, search for financial aid and schedule classes.
X-ALT-DESC;FMTTYPE=text/html:Meet with our admissions advisors about completing a bachelor&#39\;s degree\, master&#39\;s degree or both. We can help you to apply\, transfer credits\, search for financial aid and schedule classes.
LOCATION:Mount Saint Mary College 330 Powell Avenue\, Newburgh NY 12550
UID:e.2770.10476269
SEQUENCE:3
DTSTAMP:20260426T033451Z
URL:https://business.dcrcoc.org/events/details/mount-saint-mary-college-open-house-10-07-2017-10476269
END:VEVENT

END:VCALENDAR
