BEGIN:VCALENDAR
VERSION:2.0
PRODID:-//ChamberMaster//Event Calendar 2.0//EN
METHOD:PUBLISH
X-PUBLISHED-TTL:P3D
REFRESH-INTERVAL:P3D
CALSCALE:GREGORIAN
BEGIN:VEVENT
DTSTART:20190629T230000Z
DTEND:20190630T023000Z
X-MICROSOFT-CDO-ALLDAYEVENT:FALSE
SUMMARY:Movies Under The Walkway
DESCRIPTION:FREE movie and music under the Walkway at Upper Landing Park in Poughkeepsie. (83 N Water St\, Poughkeepsie\, NY 12601) FREE PARKING at Metro North. FOOD Vendors. Bring Blankets and Chairs.
X-ALT-DESC;FMTTYPE=text/html:FREE movie and music under the Walkway at Upper Landing Park in Poughkeepsie. (83 N Water St\, Poughkeepsie\, NY 12601) FREE PARKING at Metro North. FOOD Vendors. Bring Blankets and Chairs.
LOCATION:83 N Water Street\, Poughkeepsie NY\, 12601 (Upper Landing Park)
UID:e.2770.10480644
SEQUENCE:3
DTSTAMP:20260423T025313Z
URL:https://business.dcrcoc.org/events/details/movies-under-the-walkway-06-29-2019-10480644
END:VEVENT

END:VCALENDAR
