BEGIN:VCALENDAR
VERSION:2.0
PRODID:-//ChamberMaster//Event Calendar 2.0//EN
METHOD:PUBLISH
X-PUBLISHED-TTL:P3D
REFRESH-INTERVAL:P3D
CALSCALE:GREGORIAN
BEGIN:VEVENT
DTSTART:20190404T210000Z
DTEND:20190404T230000Z
X-MICROSOFT-CDO-ALLDAYEVENT:FALSE
SUMMARY:Mr. Anderson Launch Party
DESCRIPTION:Join Anderson Center's staff and friends at Mill House Brewing Company for the launch of Mr. Anderson. Please purchase tickets by Wednesday March 27th! *Please send guests names to MMaruzzella@AndersonCares.org as there will be no printed tickets for this event. All Anderson staff are requested to bring their work ID with them to the event and present it at the door. There will be free raffles and door prizes! Tickets include beer\, wine\, and cocktail style appetizers Mr. Anderson is a "68 Schilling" traditional Scottish-style ale that available at Mill House Brewing Company starting April 1st for Autism Awareness month. A dollar from each pint sold will be donated back to Anderson Center for Autism. Interested in matching Mr. Anderson donations? Please contact Mill House Brewing Company at (845) 485-2739.
X-ALT-DESC;FMTTYPE=text/html:Join Anderson Center&#39\;s staff and friends at Mill House Brewing Company for the launch of Mr. Anderson. Please purchase tickets by Wednesday March 27th! *Please send guests names to MMaruzzella@AndersonCares.org as there will be no printed tickets for this event. All Anderson staff are requested to bring their work ID with them to the event and present it at the door. There will be free raffles and door prizes! Tickets include beer\, wine\, and cocktail style appetizers Mr. Anderson is a &quot\;68 Schilling&quot\; traditional Scottish-style ale that available at Mill House Brewing Company starting April 1st for Autism Awareness month. A dollar from each pint sold will be donated back to Anderson Center for Autism. Interested in matching Mr. Anderson donations? Please contact Mill House Brewing Company at (845) 485-2739.
LOCATION:Mill House Brewing Company 289 Mill Street Poughkeepsie\, NY 12601
UID:e.2770.10480539
SEQUENCE:3
DTSTAMP:20260423T062256Z
URL:https://business.dcrcoc.org/events/details/mr-anderson-launch-party-10480539
END:VEVENT

END:VCALENDAR
