BEGIN:VCALENDAR
VERSION:2.0
PRODID:-//ChamberMaster//Event Calendar 2.0//EN
METHOD:PUBLISH
X-PUBLISHED-TTL:P3D
REFRESH-INTERVAL:P3D
CALSCALE:GREGORIAN
BEGIN:VEVENT
DTSTART:20180406T210000Z
DTEND:20180406T230000Z
X-MICROSOFT-CDO-ALLDAYEVENT:FALSE
SUMMARY:Mr. Anderson Launch Party - Mill House
DESCRIPTION:Join Anderson Center for Autism staff and friends at Mill House Brewing Company for the launch of Mr. Anderson. To purchase tickets please visit www.AndersonCenterforAutism.org/MrAnderson *Please send guests names to MMaruzzella@AndersonCares.org as there will be no printed tickets for this event. There will be free raffles and door prizes!!! Tickets include beer\, wine\, and appetizers - Buffalo Fried Brussel Sprouts - Reuben Pierogies - Pretzel Bites - Mac & Cheese Balls - Variety of Pizzas - Chef's Choice Mr. Anderson is a "68 Schilling" traditional Scottish-style ale that avaliable at Mill House Brewing Company starting April 1st for Autism Awareness month. A dollar from each pint sold will be donated back to Anderson Center for Autism. Interested in matching Mr. Anderson donations? Please contact Mill House Brewing Company at (845) 485-2739.
X-ALT-DESC;FMTTYPE=text/html:Join Anderson Center for Autism staff and friends at Mill House Brewing Company for the launch of Mr. Anderson. To purchase tickets please visit www.AndersonCenterforAutism.org/MrAnderson *Please send guests names to MMaruzzella@AndersonCares.org as there will be no printed tickets for this event. There will be free raffles and door prizes!!! Tickets include beer\, wine\, and appetizers - Buffalo Fried Brussel Sprouts - Reuben Pierogies - Pretzel Bites - Mac &amp\; Cheese Balls - Variety of Pizzas - Chef&#39\;s Choice Mr. Anderson is a &quot\;68 Schilling&quot\; traditional Scottish-style ale that avaliable at Mill House Brewing Company starting April 1st for Autism Awareness month. A dollar from each pint sold will be donated back to Anderson Center for Autism. Interested in matching Mr. Anderson donations? Please contact Mill House Brewing Company at (845) 485-2739.
LOCATION:Mill House Brewing Company 289 Mill St\, Poughkeepsie\, NY 12601
UID:e.2770.10476882
SEQUENCE:3
DTSTAMP:20260425T194942Z
URL:https://business.dcrcoc.org/events/details/mr-anderson-launch-party-mill-house-10476882
END:VEVENT

END:VCALENDAR
