BEGIN:VCALENDAR
VERSION:2.0
PRODID:-//ChamberMaster//Event Calendar 2.0//EN
METHOD:PUBLISH
X-PUBLISHED-TTL:P3D
REFRESH-INTERVAL:P3D
CALSCALE:GREGORIAN
BEGIN:VEVENT
DTSTART:20180417T220000Z
DTEND:20180418T010000Z
X-MICROSOFT-CDO-ALLDAYEVENT:FALSE
SUMMARY:MSMC Food Conference
DESCRIPTION:Free and open partial screening of Wasted! The Story of Food Waste to the surrounding community at Aquinas Hall Theatre\, Mount Saint Mary College. Doors for the event will open at 5:45 PM. The screening will start at 6:10 PM followed by a panel discussion comprised of local advocates for food recovery and a networking event featuring demos on nose-to-tail and root-to-stalk cooking and opportunities to get active and involved in the wasted food movement.
X-ALT-DESC;FMTTYPE=text/html:Free and open partial screening of Wasted! The Story of Food Waste to the surrounding community at Aquinas Hall Theatre\, Mount Saint Mary College. Doors for the event will open at 5:45 PM. The screening will start at 6:10 PM followed by a panel discussion comprised of local advocates for food recovery and a networking event featuring demos on nose-to-tail and root-to-stalk cooking and opportunities to get active and involved in the wasted food movement.
LOCATION:Aquinas Hall 330 Powel Avenue Newburgh NY 12550
UID:e.2770.10477159
SEQUENCE:3
DTSTAMP:20260425T210353Z
URL:https://business.dcrcoc.org/events/details/msmc-food-conference-10477159
END:VEVENT

END:VCALENDAR
