BEGIN:VCALENDAR
VERSION:2.0
PRODID:-//ChamberMaster//Event Calendar 2.0//EN
METHOD:PUBLISH
X-PUBLISHED-TTL:P3D
REFRESH-INTERVAL:P3D
CALSCALE:GREGORIAN
BEGIN:VEVENT
DTSTART:20181213T220000Z
DTEND:20181214T000000Z
X-MICROSOFT-CDO-ALLDAYEVENT:FALSE
SUMMARY:MSMC Graduate and Adult Degree Completion Programs Information Session
DESCRIPTION:Meet with our admissions staff and advisors about completing a bachelor's or master's degree\, or both. We can help you to apply\, transfer credits\, search for financial aid\, and schedule classes.
X-ALT-DESC;FMTTYPE=text/html:Meet with our admissions staff and advisors about completing a bachelor&#39\;s or master&#39\;s degree\, or both. We can help you to apply\, transfer credits\, search for financial aid\, and schedule classes.
LOCATION:Mount Saint Mary College\, Villa Library
UID:e.2770.10479936
SEQUENCE:3
DTSTAMP:20260425T101908Z
URL:https://business.dcrcoc.org/events/details/msmc-graduate-and-adult-degree-completion-programs-information-session-12-13-2018-10479936
END:VEVENT

END:VCALENDAR
