BEGIN:VCALENDAR
VERSION:2.0
PRODID:-//ChamberMaster//Event Calendar 2.0//EN
METHOD:PUBLISH
X-PUBLISHED-TTL:P3D
REFRESH-INTERVAL:P3D
CALSCALE:GREGORIAN
BEGIN:VEVENT
DTSTART:20180421T220000Z
DTEND:20180422T003000Z
X-MICROSOFT-CDO-ALLDAYEVENT:FALSE
SUMMARY:Murder Mystery Dinner Alzheimers Benefit
DESCRIPTION:Murder Mystery Dinner Alzheimers Benefit "The Great Debate Debacle" $35 per person For Tickets Call 845-224-9273 byApril 6th. Choice of Beef or Turkey Whodunit? Dust off your detective hat\, notepad and sleuthing skills for this evening of goofy fun!
X-ALT-DESC;FMTTYPE=text/html:Murder Mystery Dinner Alzheimers Benefit &quot\;The Great Debate Debacle&quot\; $35 per person For Tickets Call 845-224-9273 byApril 6th. Choice of Beef or Turkey Whodunit? Dust off your detective hat\, notepad and sleuthing skills for this evening of goofy fun!
LOCATION:Wappingers Falls Elks Lodge 1195 Route 376\, Wappingers Falls
UID:e.2770.10477143
SEQUENCE:3
DTSTAMP:20260425T195100Z
URL:https://business.dcrcoc.org/events/details/murder-mystery-dinner-alzheimers-benefit-10477143
END:VEVENT

END:VCALENDAR
