BEGIN:VCALENDAR
VERSION:2.0
PRODID:-//ChamberMaster//Event Calendar 2.0//EN
METHOD:PUBLISH
X-PUBLISHED-TTL:P3D
REFRESH-INTERVAL:P3D
CALSCALE:GREGORIAN
BEGIN:VEVENT
DTSTART:20180603T200000Z
DTEND:20180603T220000Z
X-MICROSOFT-CDO-ALLDAYEVENT:FALSE
SUMMARY:Music at the Hopewell Depot
DESCRIPTION:Enjoy a Musical Evening of Bluegrass\, Folk and Americana with Beercaps and Quarters at the Hopewell Depot.  \n\n4pm to 6pm\, Sunday\, June 3. \n\nBring your own chairs and blankets.  \n\nFree admission\, Donations encouraged.\n\nSilent auction with lots of local business gift certificates available.\n\n36 Railroad Av.\, Hopewell Junction\, NY.\n\nAt the southern end of the Dutchess County Rail Trail in Hopewell Junction.\n\nInformation: (845) 226-7003 or (845) 226-7639
X-ALT-DESC;FMTTYPE=text/html:Enjoy a Musical Evening of Bluegrass\, Folk and Americana with Beercaps and Quarters at the Hopewell Depot.&nbsp\;&nbsp\;<br />\n4pm to 6pm\, Sunday\, June 3.&nbsp\;<br />\nBring your own chairs and blankets.&nbsp\;&nbsp\;<br />\nFree admission\, Donations encouraged.<br />\nSilent auction with lots of local business gift certificates available.<br />\n36 Railroad Av.\, Hopewell Junction\, NY.<br />\nAt the southern end of the Dutchess County Rail Trail in Hopewell Junction.<br />\nInformation: (845) 226-7003 or (845) 226-7639
LOCATION:Hopewell Depot 36 Railroad Av. Hopewell Junction\, NY 12533 Right at the southern end of the William R. Steinhaus Dutchess Coutny Rail Trail
UID:e.2770.10477697
SEQUENCE:3
DTSTAMP:20260425T171230Z
URL:https://business.dcrcoc.org/events/details/music-at-the-hopewell-depot-10477697
END:VEVENT

END:VCALENDAR
