BEGIN:VCALENDAR
VERSION:2.0
PRODID:-//ChamberMaster//Event Calendar 2.0//EN
METHOD:PUBLISH
X-PUBLISHED-TTL:P3D
REFRESH-INTERVAL:P3D
CALSCALE:GREGORIAN
BEGIN:VEVENT
DTSTART:20190413T220000Z
DTEND:20190414T010000Z
X-MICROSOFT-CDO-ALLDAYEVENT:FALSE
SUMMARY:Mystery Dinner Theatre
DESCRIPTION:Hosted by Hudson Valley Distillers\, murder mystery by Murder Cafe Infamous bootlegger Dutch Schultz has opened a new speakeasy\, the Abba Dabba Club\, to give girlfriend Lu Lu a place to sing but flapper Rosie isn't having it. You'll dance\, dine and gulp the best hooch anywhere until tempers flair\, bullets rain and the law shows up. One body will fall and it doesn't look like the Charleston did it. Murder Cafe's interactive comedy-musical mystery\, a fine meal\, whiskey tasting and prizes for those who guess whodunit. Tickets are $49 and include a three course meal
X-ALT-DESC;FMTTYPE=text/html:Hosted by Hudson Valley Distillers\, murder mystery by Murder Cafe Infamous bootlegger Dutch Schultz has opened a new speakeasy\, the Abba Dabba Club\, to give girlfriend Lu Lu a place to sing but flapper Rosie isn&rsquo\;t having it. You&rsquo\;ll dance\, dine and gulp the best hooch anywhere until tempers flair\, bullets rain and the law shows up. One body will fall and it doesn&rsquo\;t look like the Charleston did it. Murder Cafe&#39\;s interactive comedy-musical mystery\, a fine meal\, whiskey tasting and prizes for those who guess whodunit. Tickets are $49 and include a three course meal
LOCATION:Hudson Valley Distillers 1727 Rte 9 Clermont\, NY 12526
UID:e.2770.10480564
SEQUENCE:3
DTSTAMP:20260423T062434Z
URL:https://business.dcrcoc.org/events/details/mystery-dinner-theatre-10480564
END:VEVENT

END:VCALENDAR
