BEGIN:VCALENDAR
VERSION:2.0
PRODID:-//ChamberMaster//Event Calendar 2.0//EN
METHOD:PUBLISH
X-PUBLISHED-TTL:P3D
REFRESH-INTERVAL:P3D
CALSCALE:GREGORIAN
BEGIN:VEVENT
DTSTART:20180420T173000Z
DTEND:20180420T190000Z
X-MICROSOFT-CDO-ALLDAYEVENT:FALSE
SUMMARY:National Endowment for the Humanities Grants Workshop
DESCRIPTION:Interested in grants for humanities scholarship\, programs\, and research? National Endowment for the Humanities staff will explain the various grant programs\, give tips for crafting a strong proposal\, and answer questions. Nonprofits such as libraries\, museums\, tribal entities\, colleges\, and cultural organizations are invited to attend. The event is free and open to the public\, but seating is limited\, so please register by April 13\, 2018 at maristconnect.marist.edu/GrantsWorkshop2018
X-ALT-DESC;FMTTYPE=text/html:Interested in grants for humanities scholarship\, programs\, and research? National Endowment for the Humanities staff will explain the various grant programs\, give tips for crafting a strong proposal\, and answer questions. Nonprofits such as libraries\, museums\, tribal entities\, colleges\, and cultural organizations are invited to attend. The event is free and open to the public\, but seating is limited\, so please register by April 13\, 2018 at maristconnect.marist.edu/GrantsWorkshop2018
LOCATION:Room 2023\, Hancock Center\, Marist College\, Poughkeepsie
UID:e.2770.10477613
SEQUENCE:3
DTSTAMP:20260425T194911Z
URL:https://business.dcrcoc.org/events/details/national-endowment-for-the-humanities-grants-workshop-10477613
END:VEVENT

END:VCALENDAR
