BEGIN:VCALENDAR
VERSION:2.0
PRODID:-//ChamberMaster//Event Calendar 2.0//EN
METHOD:PUBLISH
X-PUBLISHED-TTL:P3D
REFRESH-INTERVAL:P3D
CALSCALE:GREGORIAN
BEGIN:VEVENT
DTSTART:20180815T220000Z
DTEND:20180816T000000Z
X-MICROSOFT-CDO-ALLDAYEVENT:FALSE
SUMMARY:Navigating The Cycle of Success
DESCRIPTION:During this workshop participants will engage using a fun and interactive tool which allows everyone to gather around the table and gain a better understanding of leadership principles and practices. We will identify strengths and gifts\, raise levels of self-awareness and learn new techniques that can be immediately applied in the workplace\, business and everyday life\nThis workshop will help each participant to: \n\n\n	Face Fears with Courage   Boldly embrace success and make it your constant companion.\n	Get Out of the Comfort Zone   The burden of growth is discomfort. See how your comfort zone is distracting you from success.\n	Adopt an Empowered Attitude   Our Attitude\, Our Choice\, Equals Our Results\n	Good Intentions Aren't Enough   Discover what you really need.\n\n\nOur guest speaker is Londina Cruz\, Executive Director of John Maxwell Team.
X-ALT-DESC;FMTTYPE=text/html:During this workshop participants will engage using a fun and interactive tool which allows everyone to gather around the table and gain a better understanding of leadership principles and practices. We&nbsp\;will identify strengths and gifts\, raise levels of self-awareness and learn new techniques that can be immediately applied in the workplace\, business and everyday life\n<p>This workshop will help each participant to:&nbsp\;</p>\n\n<ul>\n	<li>Face Fears with Courage &ndash\; Boldly embrace success and make it your constant companion.</li>\n	<li>Get Out of the Comfort Zone &ndash\; The burden of growth is discomfort. See how your comfort zone is distracting you from success.</li>\n	<li>Adopt an Empowered Attitude &ndash\; Our Attitude\, Our Choice\, Equals Our Results</li>\n	<li>Good Intentions Aren&rsquo\;t Enough &ndash\; Discover what you really need.</li>\n</ul>\n\n<p>Our guest speaker is Londina Cruz\, Executive Director of John Maxwell Team.</p>\n
LOCATION:WEDC MHV @ Think Dutchess Alliance For Business 3 Neptune Rd\, Suite A21 Poughkeepsie\, NY 12601
UID:e.2770.10477764
SEQUENCE:3
DTSTAMP:20260425T155036Z
URL:https://business.dcrcoc.org/events/details/navigating-the-cycle-of-success-10477764
END:VEVENT

END:VCALENDAR
