BEGIN:VCALENDAR
VERSION:2.0
PRODID:-//ChamberMaster//Event Calendar 2.0//EN
METHOD:PUBLISH
X-PUBLISHED-TTL:P3D
REFRESH-INTERVAL:P3D
CALSCALE:GREGORIAN
BEGIN:VEVENT
DTSTART:20200819T130000Z
DTEND:20200819T150000Z
X-MICROSOFT-CDO-ALLDAYEVENT:FALSE
SUMMARY:Need Business Funding?
DESCRIPTION:Want to learn more about where to get capital for your business?  Our speakers are here to help:\n\n\n	\n	Community Bank Representative\n	\n	\n	Ryan Widenhouse\, Business Development Officer\, BOC Capital Corp.\n	\n	\n	Nikki A. Hahn\, Director of Development\, Women's Enterprise Development Center\n\n	 \n	\n\n\nPlanning is the key to getting the business funding you need.  Topics include:\n\n\n	\n	Why businesses borrow money\n	\n	\n	What lenders are looking for\n	\n	\n	What is different about a community bank\n	\n	\n	Tips for having the best loan application\n\n	\n\n	Sponsored by: Community Bank N.A.
X-ALT-DESC;FMTTYPE=text/html:<p><span style="font-size:16px">Want to learn more about where to get capital for your business?&nbsp\; Our speakers are here to help:</span></p>\n\n<ul>\n	<li>\n	<p><span style="font-size:16px">Community Bank Representative</span></p>\n	</li>\n	<li>\n	<p><span style="font-size:16px">Ryan Widenhouse\, Business Development Officer\, BOC Capital Corp.</span></p>\n	</li>\n	<li>\n	<p><span style="font-size:16px">Nikki A. Hahn\, Director of Development\, Women&rsquo\;s Enterprise Development Center</span><br />\n	&nbsp\;</p>\n	</li>\n</ul>\n\n<p><span style="font-size:16px">Planning is the key to getting the business&nbsp\;funding you need.&nbsp\; Topics include:</span></p>\n\n<ul>\n	<li>\n	<p><span style="font-size:16px">Why businesses borrow money</span></p>\n	</li>\n	<li>\n	<p><span style="font-size:16px">What lenders are looking for</span></p>\n	</li>\n	<li>\n	<p><span style="font-size:16px">What is different about a community bank</span></p>\n	</li>\n	<li>\n	<p><span style="font-size:16px">Tips for having the best loan application<br />\n	<br />\n	Sponsored by: Community Bank N.A.</span></p>\n	</li>\n</ul>\n
LOCATION:Online
UID:e.2770.10484424
SEQUENCE:3
DTSTAMP:20260422T015710Z
URL:https://business.dcrcoc.org/events/details/need-business-funding-08-19-2020-10484424
END:VEVENT

END:VCALENDAR
