BEGIN:VCALENDAR
VERSION:2.0
PRODID:-//ChamberMaster//Event Calendar 2.0//EN
METHOD:PUBLISH
X-PUBLISHED-TTL:P3D
REFRESH-INTERVAL:P3D
CALSCALE:GREGORIAN
BEGIN:VEVENT
DTSTART:20190925T130000Z
DTEND:20190925T150000Z
X-MICROSOFT-CDO-ALLDAYEVENT:FALSE
SUMMARY:Need Business Funding?
DESCRIPTION:Want to learn more about where to get capital for your business?  Our panelists are here to help.\n\n\n	\n	Community Capital New York\n	\n	\n	Orange County Community Development Director- Grants\n	\n	\n	New York Business Development Corporation\n	\n	\n	Hudson Valley Federal Credit Union\n	\n\n\n\n\nPlanning is the key to getting the business funding you need.  Topics include:\n\n\n	\n	Why businesses borrow money\n	\n	\n	Where to find grants\n	\n	\n	What lenders are looking for\n	\n	\n	Tips for having the best loan application
X-ALT-DESC;FMTTYPE=text/html:<p><span style="font-size:16px">Want to learn more about where to get capital for your business?&nbsp\; Our panelists are here to help.</span></p>\n\n<ul>\n	<li>\n	<p><span style="font-size:16px">Community Capital New York</span></p>\n	</li>\n	<li>\n	<p><span style="font-size:16px">Orange County Community Development Director- Grants</span></p>\n	</li>\n	<li>\n	<p><span style="font-size:16px">New York Business Development Corporation</span></p>\n	</li>\n	<li>\n	<p><span style="font-size:16px">Hudson Valley Federal Credit Union</span></p>\n	</li>\n</ul>\n\n<p><br />\n<span style="font-size:16px">Planning is the key to getting the business funding you need.&nbsp\; Topics include:</span></p>\n\n<ul>\n	<li>\n	<p><span style="font-size:16px">Why businesses borrow money</span></p>\n	</li>\n	<li>\n	<p><span style="font-size:16px">Where to find grants</span></p>\n	</li>\n	<li>\n	<p><span style="font-size:16px">What lenders are looking for</span></p>\n	</li>\n	<li>\n	<p><span style="font-size:16px">Tips for having the best loan application</span></p>\n	</li>\n</ul>\n
LOCATION:The Accelerator 4 Crotty Lane\, Suite 100 New Windsor\, NY 12553
UID:e.2770.10480814
SEQUENCE:3
DTSTAMP:20260422T220859Z
URL:https://business.dcrcoc.org/events/details/need-business-funding-10480814
END:VEVENT

END:VCALENDAR
