BEGIN:VCALENDAR
VERSION:2.0
PRODID:-//ChamberMaster//Event Calendar 2.0//EN
METHOD:PUBLISH
X-PUBLISHED-TTL:P3D
REFRESH-INTERVAL:P3D
CALSCALE:GREGORIAN
BEGIN:VEVENT
DTSTART:20201029T130000Z
DTEND:20201029T143000Z
X-MICROSOFT-CDO-ALLDAYEVENT:FALSE
SUMMARY:Need Business Relief Funding?
DESCRIPTION:New York Forward Loan Fund- economic recovery loan program aimed at supporting small businesses\, nonprofits and small landlords as they reopen after the COVID-19 outbreak.\n\n\n\nIn this webinar\, you will learn:\n\n\n	\n	What is the NYFLF?\n	\n	\n	How does it help with COVID relief?\n	\n	\n	What are the terms & conditions?\n	\n	\n	How do I apply and what to expect?
X-ALT-DESC;FMTTYPE=text/html:<p><span style="font-size:16px">New York Forward Loan Fund- economic recovery loan program aimed at supporting small businesses\, nonprofits and small landlords as they reopen after the COVID-19 outbreak.<br />\n<br />\n<strong>In this webinar\, you will learn:</strong></span></p>\n\n<ul>\n	<li>\n	<p><span style="font-size:16px">What is the NYFLF?</span></p>\n	</li>\n	<li>\n	<p><span style="font-size:16px">How does it help with COVID relief?</span></p>\n	</li>\n	<li>\n	<p><span style="font-size:16px">What are the terms &amp\; conditions?</span></p>\n	</li>\n	<li>\n	<p><span style="font-size:16px">How do I apply and what to expect?</span></p>\n	</li>\n</ul>\n
LOCATION:Webinar
UID:e.2770.10484502
SEQUENCE:3
DTSTAMP:20260421T223350Z
URL:https://business.dcrcoc.org/events/details/need-business-relief-funding-10484502
END:VEVENT

END:VCALENDAR
